BEGIN:VCALENDAR
VERSION:2.0
PRODID:-//Tukios.com/
BEGIN:VEVENT
UID:6a939db6-cc17-445a-9bfc-345c36f1ff96@www.wichmannfuneralhomes.com
DTSTAMP:20260423T003515Z
DTSTART:20260509T190000Z
DTEND:20260509T220000Z
SUMMARY:Celebration of Life
DESCRIPTION:
URL:https://www.wichmannfuneralhomes.com/obituaries/sally-maki
LOCATION:Roundabout Bar 110 County Highway KK  Kaukauna WI 54130
GEO:44.2432361;-88.2733438
END:VEVENT
END:VCALENDAR