BEGIN:VCALENDAR
VERSION:2.0
PRODID:-//Tukios.com/
BEGIN:VEVENT
UID:fede83e7-0687-48ad-b569-42b8044cdb28@www.wichmannfuneralhomes.com
DTSTAMP:20260420T215330Z
DTSTART:20260427T180000Z
DTEND:20260427T190000Z
SUMMARY:Funeral Service
DESCRIPTION:
URL:https://www.wichmannfuneralhomes.com/obituaries/rudolph-vitek
LOCATION:Laemmrich Funeral Home 312 Milwaukee Street  Menasha WI 54952
GEO:44.2053936;-88.4495306
END:VEVENT
END:VCALENDAR