BEGIN:VCALENDAR
VERSION:2.0
PRODID:-//Tukios.com/
BEGIN:VEVENT
UID:fb8c2025-2fd6-47d1-90d5-d3c363fd1476@www.wichmannfuneralhomes.com
DTSTAMP:20260420T214817Z
DTSTART:20260427T170000Z
DTEND:20260427T180000Z
SUMMARY:Visitation
DESCRIPTION:
URL:https://www.wichmannfuneralhomes.com/obituaries/rudolph-vitek
LOCATION:Laemmrich Funeral Home 312 Milwaukee Street  Menasha WI 54952
GEO:44.2053936;-88.4495306
END:VEVENT
END:VCALENDAR