BEGIN:VCALENDAR
VERSION:2.0
PRODID:-//Tukios.com/
BEGIN:VEVENT
UID:b6df59dd-7987-4619-b7c0-0da097d63f5d@www.wichmannfuneralhomes.com
DTSTAMP:20260421T033253Z
DTSTART:20260509T160000Z
DTEND:20260509T170000Z
SUMMARY:Mass
DESCRIPTION:
URL:https://www.wichmannfuneralhomes.com/obituaries/marti-schmall
LOCATION:St. Mary of the Immaculate Conception Catholic Church N2385 
	Municipal Dr  Greenville WI 54942
GEO:44.3269602;-88.5372713
END:VEVENT
END:VCALENDAR