BEGIN:VCALENDAR
VERSION:2.0
PRODID:-//Tukios.com/
BEGIN:VEVENT
UID:d8291799-f600-4766-8525-88fdf365aa2a@www.wichmannfuneralhomes.com
DTSTAMP:20260421T032904Z
DTSTART:20260509T140000Z
DTEND:20260509T160000Z
SUMMARY:Visitation
DESCRIPTION:
URL:https://www.wichmannfuneralhomes.com/obituaries/marti-schmall
LOCATION:St. Mary of the Immaculate Conception Catholic Church N2385 
	Municipal Dr  Greenville WI 54942
GEO:44.3269602;-88.5372713
END:VEVENT
END:VCALENDAR