BEGIN:VCALENDAR
VERSION:2.0
PRODID:-//Tukios.com/
BEGIN:VEVENT
UID:b38ff303-4c99-4694-a18c-44343172dec1@www.wichmannfuneralhomes.com
DTSTAMP:20260426T002109Z
DTSTART:20260523T160000Z
DTEND:20260523T170000Z
SUMMARY:Memorial Service
DESCRIPTION:
URL:https://www.wichmannfuneralhomes.com/obituaries/kristen-langlais
LOCATION:Wichmann Funeral Home 537 N Superior St  Appleton WI 54911
GEO:44.2668742;-88.4090589
END:VEVENT
END:VCALENDAR