BEGIN:VCALENDAR
VERSION:2.0
PRODID:-//Tukios.com/
BEGIN:VEVENT
UID:fea98339-c74e-47b0-82f8-e2eabdc6e1a8@www.wichmannfuneralhomes.com
DTSTAMP:20260425T001318Z
DTSTART:20260501T160000Z
DTEND:20260501T170000Z
SUMMARY:Mass
DESCRIPTION:
URL:https://www.wichmannfuneralhomes.com/obituaries/joseph-joe-caravella
LOCATION:Holy Spirit Parish - Kimberly 600 East Kimberly Avenue  Kimberly 
	WI 54136
GEO:44.2729718;-88.3290229
END:VEVENT
END:VCALENDAR