BEGIN:VCALENDAR
VERSION:2.0
PRODID:-//Tukios.com/
BEGIN:VEVENT
UID:fadc5201-b371-4b6d-bcd6-2125bfcaf411@www.wichmannfuneralhomes.com
DTSTAMP:20260425T001746Z
DTSTART:20260501T143000Z
DTEND:20260501T160000Z
SUMMARY:Visitation
DESCRIPTION:
URL:https://www.wichmannfuneralhomes.com/obituaries/joseph-joe-caravella
LOCATION: 600 E Kimberly Ave  Kimberly WI 54136
GEO:44.2726312;-88.3289302
END:VEVENT
END:VCALENDAR