BEGIN:VCALENDAR
VERSION:2.0
PRODID:-//Tukios.com/
BEGIN:VEVENT
UID:18ca3bdb-aa54-43bd-ab8a-7284be366189@www.wichmannfuneralhomes.com
DTSTAMP:20260421T152130Z
DTSTART:20260723T200000Z
DTEND:20260723T210000Z
SUMMARY:Memorial Service
DESCRIPTION:
URL:https://www.wichmannfuneralhomes.com/obituaries/jolene-lamers
LOCATION:Wichmann Funeral Home-Jansen Fargo 204 East Kimberly Avenue  
	Kimberly WI 54136
GEO:44.2725672;-88.3331074
END:VEVENT
END:VCALENDAR