BEGIN:VCALENDAR
VERSION:2.0
PRODID:-//Tukios.com/
BEGIN:VEVENT
UID:45b67da6-672a-4195-b07d-ef87ff1199f3@www.wichmannfuneralhomes.com
DTSTAMP:20260421T151657Z
DTSTART:20260723T180000Z
DTEND:20260723T200000Z
SUMMARY:Memorial Gathering
DESCRIPTION:
URL:https://www.wichmannfuneralhomes.com/obituaries/jolene-lamers
LOCATION:Wichmann Funeral Home-Jansen Fargo 204 East Kimberly Avenue  
	Kimberly WI 54136
GEO:44.2725672;-88.3331074
END:VEVENT
END:VCALENDAR