BEGIN:VCALENDAR
VERSION:2.0
PRODID:-//Tukios.com/
BEGIN:VEVENT
UID:f4ece216-7a29-4124-aaab-dda276973099@www.wichmannfuneralhomes.com
DTSTAMP:20260422T083801Z
DTSTART:20260423T180000Z
DTEND:20260423T200000Z
SUMMARY:Visitation
DESCRIPTION:
URL:https://www.wichmannfuneralhomes.com/obituaries/james-stutson
LOCATION:Laemmrich Chapel 312 Milwakee St  Menasha WI 54952
GEO:44.205352;-88.4495431
END:VEVENT
END:VCALENDAR