BEGIN:VCALENDAR
VERSION:2.0
PRODID:-//Tukios.com/
BEGIN:VEVENT
UID:46253d8d-e1e1-44f0-abe5-3b641a53f797@www.wichmannfuneralhomes.com
DTSTAMP:20260420T180821Z
DTSTART:20260429T140000Z
DTEND:20260429T160000Z
SUMMARY:Visitation
DESCRIPTION:
URL:https://www.wichmannfuneralhomes.com/obituaries/glenn-griesbach
LOCATION: 2331 E Lourdes Dr  Appleton WI 54915
GEO:44.25178;-88.3698387
END:VEVENT
END:VCALENDAR