BEGIN:VCALENDAR
VERSION:2.0
PRODID:-//Tukios.com/
BEGIN:VEVENT
UID:3f696d31-1d9c-47a4-aa54-840a08fa854f@www.wichmannfuneralhomes.com
DTSTAMP:20260420T211303Z
DTSTART:20260429T160000Z
DTEND:20260429T170000Z
SUMMARY:Mass
DESCRIPTION:
URL:https://www.wichmannfuneralhomes.com/obituaries/glen-griesbach
LOCATION: 2331 E Lourdes Dr  Appleton WI 54915
GEO:44.25178;-88.3698387
END:VEVENT
END:VCALENDAR