BEGIN:VCALENDAR
VERSION:2.0
PRODID:-//Tukios.com/
BEGIN:VEVENT
UID:64b10d80-1554-4d72-9f8a-232debad843f@www.wichmannfuneralhomes.com
DTSTAMP:20260421T222550Z
DTSTART:20260512T140000Z
DTEND:20260512T160000Z
SUMMARY:Visitation
DESCRIPTION:
URL:https://www.wichmannfuneralhomes.com/obituaries/gerald-henseler
LOCATION:St. Patrick Catholic Church 324 Nicolet Blvd  Menasha WI 54952
GEO:44.193923;-88.4527472
END:VEVENT
END:VCALENDAR