BEGIN:VCALENDAR
VERSION:2.0
PRODID:-//Tukios.com/
BEGIN:VEVENT
UID:4912209c-4c7d-42be-9a21-ad75cd6b7dc7@www.wichmannfuneralhomes.com
DTSTAMP:20260421T222808Z
DTSTART:20260512T160000Z
DTEND:20260512T170000Z
SUMMARY:Mass
DESCRIPTION:
URL:https://www.wichmannfuneralhomes.com/obituaries/gerald-henseler
LOCATION:St. Patrick Catholic Church 324 Nicolet Blvd  Menasha WI 54952
GEO:44.193923;-88.4527472
END:VEVENT
END:VCALENDAR